BEGIN:VCALENDAR
VERSION:2.0
PRODID:gruene-bockenheim.de
METHOD:PUBLISH
BEGIN:VTIMEZONE
TZID:Europe/Berlin
X-LIC-LOCATION:Europe/Berlin
BEGIN:DAYLIGHT
TZOFFSETFROM:+0100
TZOFFSETTO:+0200
TZNAME:CEST
DTSTART:19700329T020000
RRULE:FREQ=YEARLY;INTERVAL=1;BYDAY=-1SU;BYMONTH=3
END:DAYLIGHT
BEGIN:STANDARD
TZOFFSETFROM:+0200
TZOFFSETTO:+0100
TZNAME:CET
DTSTART:19701025T030000
RRULE:FREQ=YEARLY;INTERVAL=1;BYDAY=-1SU;BYMONTH=10
END:STANDARD
END:VTIMEZONE
BEGIN:VEVENT
UID:dc1bb1d774dcc007cc9083e6248c05ba@gruene-bockenheim.de
URL;VALUE=URI:https://gruene-bockenheim.de/termine/sitzung-der-ortsbeirat
 sfraktion-3/
LOCATION:tbd. 
SUMMARY:Sitzung der Ortsbeiratsfraktion
DESCRIPTION;ALTREP="data:text/html,%3Cp%3EIn%20dieser%20Sitzung%20werden%
 20die%20Inhalte%20der%20n%C3%A4chsten%20Ortsbeiratssitzung%20%28am%2015.%
 20Juni%29%20besprochen.%20%3Cbr%20%2F%3E%0ADie%20aktuellen%20Tagesordnung
 en%20sind%20%C3%BCber%20folgenden%20Link%20abrufbar%3A%20https%3A%2F%2Fww
 w.stvv.frankfurt.de%2FPARLISLINK%2FDDW%3FW%3DDOK_NAME%3D%2527TO-O-2%2527%
 3C%2Fp%3E":In dieser Sitzung werden die Inhalte der nächsten Ortsbeirats
 sitzung (am 15. Juni) besprochen.\n\nDie aktuellen Tagesordnungen sind ü
 ber folgenden Link abrufbar: https://www.stvv.frankfurt.de/PARLISLINK/DDW
 ?W=DOK_NAME=%27TO-O-2%27
CLASS:PUBLIC
DTSTART;TZID=Europe/Berlin:20260608T190000
DTEND;TZID=Europe/Berlin:20260608T210000
DTSTAMP:20260423T145852
END:VEVENT
END:VCALENDAR